BEGIN:VCALENDAR
VERSION:2.0
PRODID:-//Schreufa - ECPv6.15.11//NONSGML v1.0//EN
CALSCALE:GREGORIAN
METHOD:PUBLISH
X-ORIGINAL-URL:http://www.schreufa.de
X-WR-CALDESC:Veranstaltungen für Schreufa
REFRESH-INTERVAL;VALUE=DURATION:PT1H
X-Robots-Tag:noindex
X-PUBLISHED-TTL:PT1H
BEGIN:VTIMEZONE
TZID:Europe/Berlin
BEGIN:DAYLIGHT
TZOFFSETFROM:+0100
TZOFFSETTO:+0200
TZNAME:CEST
DTSTART:20240331T010000
END:DAYLIGHT
BEGIN:STANDARD
TZOFFSETFROM:+0200
TZOFFSETTO:+0100
TZNAME:CET
DTSTART:20241027T010000
END:STANDARD
BEGIN:DAYLIGHT
TZOFFSETFROM:+0100
TZOFFSETTO:+0200
TZNAME:CEST
DTSTART:20250330T010000
END:DAYLIGHT
BEGIN:STANDARD
TZOFFSETFROM:+0200
TZOFFSETTO:+0100
TZNAME:CET
DTSTART:20251026T010000
END:STANDARD
BEGIN:DAYLIGHT
TZOFFSETFROM:+0100
TZOFFSETTO:+0200
TZNAME:CEST
DTSTART:20260329T010000
END:DAYLIGHT
BEGIN:STANDARD
TZOFFSETFROM:+0200
TZOFFSETTO:+0100
TZNAME:CET
DTSTART:20261025T010000
END:STANDARD
BEGIN:DAYLIGHT
TZOFFSETFROM:+0100
TZOFFSETTO:+0200
TZNAME:CEST
DTSTART:20270328T010000
END:DAYLIGHT
BEGIN:STANDARD
TZOFFSETFROM:+0200
TZOFFSETTO:+0100
TZNAME:CET
DTSTART:20271031T010000
END:STANDARD
END:VTIMEZONE
BEGIN:VEVENT
DTSTART;TZID=Europe/Berlin:20260207T160000
DTEND;TZID=Europe/Berlin:20260207T220000
DTSTAMP:20260423T144855
CREATED:20260119T114522Z
LAST-MODIFIED:20260119T114755Z
UID:1474-1770480000-1770501600@www.schreufa.de
SUMMARY:Wintergrillen Schreufa
DESCRIPTION:
URL:http://www.schreufa.de/event/wintergrillen-schreufa/
ATTACH;FMTTYPE=image/jpeg:http://www.schreufa.de/wp-content/uploads/2026/01/Wintergrillen-Schreufa2.jpg.jpeg
END:VEVENT
BEGIN:VEVENT
DTSTART;TZID=Europe/Berlin:20251229T000000
DTEND;TZID=Europe/Berlin:20251229T000000
DTSTAMP:20260423T144855
CREATED:20250114T165528Z
LAST-MODIFIED:20250114T171657Z
UID:1038-1766966400-1766966400@www.schreufa.de
SUMMARY:Winterwanderung FFS
DESCRIPTION:
URL:http://www.schreufa.de/event/winterwanderung-ffs/
LOCATION:HdG\, Viermündener Str. 25\, Frankenberg\, Hessen\, 35066\, Germany
END:VEVENT
BEGIN:VEVENT
DTSTART;TZID=Europe/Berlin:20251224T170000
DTEND;TZID=Europe/Berlin:20251224T170000
DTSTAMP:20260423T144855
CREATED:20250114T165518Z
LAST-MODIFIED:20250114T171657Z
UID:1037-1766595600-1766595600@www.schreufa.de
SUMMARY:Weihnachtsgottesdienst
DESCRIPTION:
URL:http://www.schreufa.de/event/weihnachtsgottesdienst-2/
END:VEVENT
BEGIN:VEVENT
DTSTART;TZID=Europe/Berlin:20251224T150000
DTEND;TZID=Europe/Berlin:20251224T150000
DTSTAMP:20260423T144855
CREATED:20250114T165518Z
LAST-MODIFIED:20250114T171657Z
UID:1036-1766588400-1766588400@www.schreufa.de
SUMMARY:Weihnachtsgottesdienst
DESCRIPTION:
URL:http://www.schreufa.de/event/weihnachtsgottesdienst/
END:VEVENT
BEGIN:VEVENT
DTSTART;TZID=Europe/Berlin:20251213T000000
DTEND;TZID=Europe/Berlin:20251213T000000
DTSTAMP:20260423T144855
CREATED:20250114T165518Z
LAST-MODIFIED:20250114T171657Z
UID:1035-1765584000-1765584000@www.schreufa.de
SUMMARY:Weihnachtsfeier TSV
DESCRIPTION:
URL:http://www.schreufa.de/event/weihnachtsfeier-tsv/
END:VEVENT
BEGIN:VEVENT
DTSTART;TZID=Europe/Berlin:20251212T000000
DTEND;TZID=Europe/Berlin:20251212T000000
DTSTAMP:20260423T144855
CREATED:20250114T165518Z
LAST-MODIFIED:20250114T171657Z
UID:1034-1765497600-1765497600@www.schreufa.de
SUMMARY:Nikolaus-Feier TSV
DESCRIPTION:
URL:http://www.schreufa.de/event/nikolaus-feier-tsv/
END:VEVENT
BEGIN:VEVENT
DTSTART;TZID=Europe/Berlin:20251129T120000
DTEND;TZID=Europe/Berlin:20251129T120000
DTSTAMP:20260423T144855
CREATED:20250114T165510Z
LAST-MODIFIED:20250114T171642Z
UID:1032-1764417600-1764417600@www.schreufa.de
SUMMARY:Adventsmarkt
DESCRIPTION:
URL:http://www.schreufa.de/event/adventsmarkt/
LOCATION:Wettermuseum\, Kirchbergweg 9\, Frankenberg (Eder)\, Hessen\, 35066\, Germany
END:VEVENT
BEGIN:VEVENT
DTSTART;TZID=Europe/Berlin:20251122T000000
DTEND;TZID=Europe/Berlin:20251122T000000
DTSTAMP:20260423T144855
CREATED:20250114T165510Z
LAST-MODIFIED:20250114T171642Z
UID:1031-1763769600-1763769600@www.schreufa.de
SUMMARY:Sparkästchenleerung
DESCRIPTION:
URL:http://www.schreufa.de/event/sparkaestchenleerung/
LOCATION:Gasthaus Mühle\, Sachsenberger Str. 32\, Frankenberg\, Hessen\, 35066\, Germany
END:VEVENT
BEGIN:VEVENT
DTSTART;TZID=Europe/Berlin:20251116T103000
DTEND;TZID=Europe/Berlin:20251116T103000
DTSTAMP:20260423T144855
CREATED:20250114T165510Z
LAST-MODIFIED:20250114T171642Z
UID:1030-1763289000-1763289000@www.schreufa.de
SUMMARY:Gedenken Volkstrauertag
DESCRIPTION:
URL:http://www.schreufa.de/event/gedenken-volkstrauertag/
END:VEVENT
BEGIN:VEVENT
DTSTART;TZID=Europe/Berlin:20251114T170000
DTEND;TZID=Europe/Berlin:20251114T170000
DTSTAMP:20260423T144855
CREATED:20250114T165510Z
LAST-MODIFIED:20250114T171642Z
UID:1029-1763139600-1763139600@www.schreufa.de
SUMMARY:Martinsumzug
DESCRIPTION:
URL:http://www.schreufa.de/event/martinsumzug/
END:VEVENT
BEGIN:VEVENT
DTSTART;TZID=Europe/Berlin:20251024T190000
DTEND;TZID=Europe/Berlin:20251024T190000
DTSTAMP:20260423T144855
CREATED:20250114T171627Z
LAST-MODIFIED:20250114T171904Z
UID:1100-1761332400-1761332400@www.schreufa.de
SUMMARY:Bingoabend
DESCRIPTION:
URL:http://www.schreufa.de/event/bingoaend/
LOCATION:Gasthaus Mühle\, Sachsenberger Str. 32\, Frankenberg\, Hessen\, 35066\, Germany
END:VEVENT
BEGIN:VEVENT
DTSTART;TZID=Europe/Berlin:20251022T190000
DTEND;TZID=Europe/Berlin:20251022T190000
DTSTAMP:20260423T144855
CREATED:20250114T165415Z
LAST-MODIFIED:20250114T171627Z
UID:1027-1761159600-1761159600@www.schreufa.de
SUMMARY:Terminsprache örtl. Vereine
DESCRIPTION:
URL:http://www.schreufa.de/event/terminsprache-oertl-vereine/
LOCATION:Gasthaus Mühle\, Sachsenberger Str. 32\, Frankenberg\, Hessen\, 35066\, Germany
END:VEVENT
BEGIN:VEVENT
DTSTART;TZID=Europe/Berlin:20251003T103000
DTEND;TZID=Europe/Berlin:20251003T103000
DTSTAMP:20260423T144855
CREATED:20250114T165415Z
LAST-MODIFIED:20250114T171627Z
UID:1026-1759487400-1759487400@www.schreufa.de
SUMMARY:Herbstfest
DESCRIPTION:
URL:http://www.schreufa.de/event/herbstfest/
LOCATION:Gasthaus Mühle\, Sachsenberger Str. 32\, Frankenberg\, Hessen\, 35066\, Germany
END:VEVENT
BEGIN:VEVENT
DTSTART;TZID=Europe/Berlin:20250927T000000
DTEND;TZID=Europe/Berlin:20250927T000000
DTSTAMP:20260423T144855
CREATED:20250114T165415Z
LAST-MODIFIED:20250115T171523Z
UID:1025-1758931200-1758931200@www.schreufa.de
SUMMARY:Kartoffelfest / Erntedankfest
DESCRIPTION:Im Rahmen des 1175 Jubiläumsjahres freuen wir uns mit Euch das Kartoffelfest zu feiern. \nBereits im Frühjahr werden auf Dehnhardts-Acker Kartoffeln gepflanzt\, die auch das ganze Jahr über gepflegt werden.\nAnfang/Mitte September steht dann die Kartoffelernte an. \nDas Kartoffelfest startet mit einem Erntedank-Gottesdienst. Anschließend gibt es im Bereich Grillhütte/HdG verschiedene\nKartoffelgerichte\, sowie Kaffee und Kuchen. Für die Kinder wird eine Spielstation aufgebaut. \nWeitere Informationen folgen. \nAnsprechpartner: Christel Schilke
URL:http://www.schreufa.de/event/kartoffelfest-erntedankfest/
LOCATION:Grillhütte\, Viermündener Str. 25\, Frankenberg\, 35066\, Germany
CATEGORIES:1175 Jahrfeier
ATTACH;FMTTYPE=image/png:http://www.schreufa.de/wp-content/uploads/2025/01/Kartoffel.png
END:VEVENT
BEGIN:VEVENT
DTSTART;TZID=Europe/Berlin:20250913T140000
DTEND;TZID=Europe/Berlin:20250913T140000
DTSTAMP:20260423T144855
CREATED:20250114T165415Z
LAST-MODIFIED:20250114T171627Z
UID:1024-1757772000-1757772000@www.schreufa.de
SUMMARY:Geselligkeitsschießen
DESCRIPTION:
URL:http://www.schreufa.de/event/geselligkeitsschiessen/
LOCATION:Gasthaus Mühle\, Sachsenberger Str. 32\, Frankenberg\, Hessen\, 35066\, Germany
END:VEVENT
BEGIN:VEVENT
DTSTART;TZID=Europe/Berlin:20250830T150000
DTEND;TZID=Europe/Berlin:20250830T220000
DTSTAMP:20260423T144855
CREATED:20250114T165415Z
LAST-MODIFIED:20250121T080411Z
UID:1023-1756566000-1756591200@www.schreufa.de
SUMMARY:Open-Air-Kino
DESCRIPTION:Im Zuge der 1175 Jahrfeier wird in Pohns-Scheune eine Kinovorführung durchgeführt. \nVorführungszeiten:\n1. Vorstellung: 15:00 Uhr\nFilm: folgt \n2. Vorstellung: 20:00 Uhr\nFilm: folgt \nAnsprechpartner: Benjamin Greese / Christoph Kroll \nWeitere Informationen folgen.
URL:http://www.schreufa.de/event/open-air-kino/
LOCATION:Scheune Pohn\, Bodenweg 4\, Frankenberg\, 35066\, Germany
CATEGORIES:1175 Jahrfeier
ATTACH;FMTTYPE=image/png:http://www.schreufa.de/wp-content/uploads/2025/01/Kino.png
END:VEVENT
BEGIN:VEVENT
DTSTART;TZID=Europe/Berlin:20250817T110000
DTEND;TZID=Europe/Berlin:20250817T110000
DTSTAMP:20260423T144855
CREATED:20250108T191231Z
LAST-MODIFIED:20250115T133716Z
UID:666-1755428400-1755428400@www.schreufa.de
SUMMARY:Ein Tag für Kinder
DESCRIPTION:Dieser Tag im 1175 Jubiläumsjahr steht ganz im Zeichen der Kinder. \nProgramm:\nab 11.00 Uhr: Kinder-Mitmachkonzert mit dem Liedermacher Thomas Koppe (https://www.kinderliedermacher-koppe.de)\nab 12:30 Uhr: Spiele-Parcours* der örtlichen Vereine wie z.B. die Feuerwehr (Bungee-Run) sowie das THW mit Kletterturm\, Kindergarten mit Kinderschminken uvm. \nFür das Leibliche Wohl ist während der gesamten Zeit gesorgt (Gegrilltes\, Pommes\, Kuchen uvm.) \n\n*Für den Spiele-Parcours werden Laufkarten (Eintrittskarten) benötigt. Diese können Vorort erworben werden.\nLaufkartenpreis pro Kind: 4€ (Familientarif ab 3 Kinder) \nAnsprechpartnerin: Kerstin Kleem (E-Mail)
URL:http://www.schreufa.de/event/ein-tag-fuer-kinder/
LOCATION:Sportplatz HdG\, Viermündener Str. 25\, Frankenberg (Eder)\, Hessen\, 35066\, Germany
CATEGORIES:1175 Jahrfeier
ATTACH;FMTTYPE=image/png:http://www.schreufa.de/wp-content/uploads/2025/01/Tag-der-Kinder.png
END:VEVENT
BEGIN:VEVENT
DTSTART;TZID=Europe/Berlin:20250816T160000
DTEND;TZID=Europe/Berlin:20250816T160000
DTSTAMP:20260423T144855
CREATED:20250108T190909Z
LAST-MODIFIED:20250115T133659Z
UID:663-1755360000-1755360000@www.schreufa.de
SUMMARY:Generations Cup
DESCRIPTION:Der Generations Cup geht in seine 6. Auflage.\nNach ein paar Jahren Pause findet\, anlässlich der 1175 Jahrfeier\, der Generation Cup zum 6. mal statt. Fünfmal konnten die Altherren dieses Spiel für sich entscheiden – einmal gelang den „Jungen“ ein unentschieden. \nMotto und Historie\nDas Motto „Jung gegen Alt“ zieht auch in der fünften Auflage wieder zahlreiche Zuschauer auf den Sportplatz bei der Grillhütte. Hier treffen sich eine Altherrenauswahl und eine junge\, fußballbegeisterte Truppe zu einem Duell der besonderen Art. Was einst als witzige Idee begann\, hat sich mittlerweile zu einer festen Tradition entwickelt\, die nicht nur sportlichen Ehrgeiz\, sondern auch ein großes Herz für die gute Sache vereint. \nDie Wurzeln dieser Veranstaltung reichen einige Jahre zurück\, als die erfahrenen Spieler der Altherrenmannschaft von Schreufas in geselliger Runde scherzten\, dass sie doch einmal gegen die dynamischen Jungspunde antreten sollten\, die sich im Sommer regelmäßig auf dem Sportplatz versammeln. Aus diesem anfänglichen Scherz entstand schnell ein ernsthaftes Vorhaben: Ein Prestigeduell\, das bald darauf Benefizspiel wurde. \nDer gesamte Erlös des Spiels fließt an die Kinderkrebshilfe Waldeck-Frankenberg und unterstützt damit betroffene Familien in der Region. Die Kombination aus sportlichem Wettkampf und sozialem Engagement macht dieses Event so besonders. Die Atmosphäre ist stets ausgelassen und fröhlich\, während Spieler und Zuschauer gemeinsam für einen guten Zweck kämpfen. \nObwohl die jungen Talente mit ihrer Schnelligkeit und Technik glänzen\, haben die älteren Herren ihre Erfahrung und Cleverness auf ihrer Seite. Es ist ein spannendes Aufeinandertreffen der Generationen\, das nicht nur für Unterhaltung sorgt\, sondern auch den Zusammenhalt innerhalb der Gemeinde stärkt. \nSo wird auch in diesem Jahr wieder mit viel Vorfreude auf das Spiel hingefiebert. Die Zuschauer dürfen sich auf packende Szenen\, spannende Tore und jede Menge Spaß freuen – alles im Zeichen des guten Zwecks! Seien Sie dabei und unterstützen Sie diese großartige Initiative! \nProgramm\n16:00 Uhr Eröffnung\n16:30 Uhr Jugendspiel SG Eder\n18:00 Uhr Spiel Altherren : Sportfreunde Schreufa\n–> 2 x 30 Minuten\n–> 5 Feldspieler + 1 Torwart \nAnsprechpartner\nAnsprechpartner: Jürgen Becker\nTeamcaptain Altherren: Christoph Kroll\nTeamcaptain Sportfreund Schreufa: Tjark Schindler
URL:http://www.schreufa.de/event/generations-cup/
LOCATION:Sportplatz/Grillhütte\, Viermündener Str. 25\, Frankenberg\, 35066\, Germany
CATEGORIES:1175 Jahrfeier
ATTACH;FMTTYPE=image/jpeg:http://www.schreufa.de/wp-content/uploads/2025/01/Generationscup3.jpeg
END:VEVENT
BEGIN:VEVENT
DTSTART;TZID=Europe/Berlin:20250719T140000
DTEND;TZID=Europe/Berlin:20250719T140000
DTSTAMP:20260423T144855
CREATED:20250114T165412Z
LAST-MODIFIED:20250114T171612Z
UID:1019-1752933600-1752933600@www.schreufa.de
SUMMARY:Sommerfest WASS
DESCRIPTION:
URL:http://www.schreufa.de/event/sommerfest-wass/
LOCATION:Wettermuseum\, Kirchbergweg 9\, Frankenberg (Eder)\, Hessen\, 35066\, Germany
END:VEVENT
BEGIN:VEVENT
DTSTART;VALUE=DATE:20250627
DTEND;VALUE=DATE:20250630
DTSTAMP:20260423T144855
CREATED:20250108T184020Z
LAST-MODIFIED:20250624T171432Z
UID:648-1750982400-1751241599@www.schreufa.de
SUMMARY:Festwochenende "Drei Tage Schreufa"
DESCRIPTION:Das 1175 Jubiliäumsjahr findet seinen Höhenpunkt am 3-tägigen Festwochenende.\nDie Feststraße befindet sich in der Schmandgasse. \n \nFreitag\, 27.06.2025\n\nGemütlicher Dorfabend\n\n\nSamstag\, 28.06.2025\n16:00 Uhr \n\nEröffnung der Festmeile mit dem Musikverein Löhlbach\nEröffnung des Weindorfs\nAnsprache der Bürgermeisterin B. Eckes\n\n21:00 Uhr \n\nPartyabend in der Festscheune\n\n\nSonntag\, 29.06.2025\n09:30 Uhr \n\nGottesdienst mit dem MGV\n\n11:00 Uhr \n\n\nMusikalischer Frühschoppen mit den Edertaler Spitzbuben \n\n\n14:00 Uhr \n\nAuftritte Kita\, Line Dance Gruppe\, Pop Chor\n\n\nDazu gibt es an Sa.&So. auf der Festmeile:\n\n\nKunsthandwerk \n\n\nSelbstgemachtes \n\n\nFlammkuchen \n\n\nRäucherforellen \n\n\nKalte Getränke \n\n\nBratwurst\, Steak\, Pommes \n\n\nBauernhof-Eis \n\n\nCocktails \n\n\nDöner \n\n\n  \n 
URL:http://www.schreufa.de/event/festwochenende-drei-tage-schreufa/
LOCATION:Feststraße\, Schmandgasse\, Frankenberg\, 35066\, Germany
CATEGORIES:1175 Jahrfeier
ATTACH;FMTTYPE=image/png:http://www.schreufa.de/wp-content/uploads/2025/06/Festwochenende_Plakat_hoheAufloesung_v2-scaled.png
END:VEVENT
BEGIN:VEVENT
DTSTART;TZID=Europe/Berlin:20250613T100000
DTEND;TZID=Europe/Berlin:20250613T100000
DTSTAMP:20260423T144855
CREATED:20250114T165349Z
LAST-MODIFIED:20250114T171552Z
UID:1017-1749808800-1749808800@www.schreufa.de
SUMMARY:Fest-Gottesdienst
DESCRIPTION:
URL:http://www.schreufa.de/event/fest-gottesdienst/
LOCATION:Viermündener Straße\, Viermündener Straße\, Frankenberg (Eder)\, Hessen\, 35066\, Germany
END:VEVENT
BEGIN:VEVENT
DTSTART;TZID=Europe/Berlin:20250613T000000
DTEND;TZID=Europe/Berlin:20250615T000000
DTSTAMP:20260423T144855
CREATED:20250114T165349Z
LAST-MODIFIED:20250114T171552Z
UID:1014-1749772800-1749945600@www.schreufa.de
SUMMARY:Jugendfußballturnier
DESCRIPTION:
URL:http://www.schreufa.de/event/jugendfussballturnier/
LOCATION:Sportplatz Frankenberg\, Zum Ederstadion 1\, Frankenberg (Eder)\, Hessen\, 35066\, Germany
ORGANIZER;CN="SG Eder":MAILTO:info@sg-eder.de
END:VEVENT
BEGIN:VEVENT
DTSTART;TZID=Europe/Berlin:20250529T113000
DTEND;TZID=Europe/Berlin:20250529T113000
DTSTAMP:20260423T144855
CREATED:20250114T165349Z
LAST-MODIFIED:20250114T171537Z
UID:1013-1748518200-1748518200@www.schreufa.de
SUMMARY:Frühlingsfest Wettermuseum
DESCRIPTION:
URL:http://www.schreufa.de/event/fruehlingsfest-wettermuseum/
LOCATION:Wettermuseum\, Kirchbergweg 9\, Frankenberg (Eder)\, Hessen\, 35066\, Germany
END:VEVENT
BEGIN:VEVENT
DTSTART;TZID=Europe/Berlin:20250529T100000
DTEND;TZID=Europe/Berlin:20250529T100000
DTSTAMP:20260423T144855
CREATED:20250114T165339Z
LAST-MODIFIED:20250114T171537Z
UID:1012-1748512800-1748512800@www.schreufa.de
SUMMARY:Himmelfahrtsgottesdienst
DESCRIPTION:
URL:http://www.schreufa.de/event/himmelfahrtsgottesdienst/
LOCATION:Schöpfungsgarten\, Kirchbergweg 9\, Frankenberg (Eder)\, Hessen\, 35066
END:VEVENT
BEGIN:VEVENT
DTSTART;TZID=Europe/Berlin:20250525T100000
DTEND;TZID=Europe/Berlin:20250525T170000
DTSTAMP:20260423T144855
CREATED:20250108T182803Z
LAST-MODIFIED:20250303T101903Z
UID:639-1748167200-1748192400@www.schreufa.de
SUMMARY:Dorfflohmarkt
DESCRIPTION:Unser Dorfflohmarkt findet im ganzen 1175 Jahre alten Dorf auf Höfen und in Garagen statt.\nEine Übersichtskarte findest du hier: Karte \nDu möchtest einen Stand stellen? Bitte das Formular dazu verwenden/ausfüllen. \nAnsprechpartner für weitere Fragen: Franzisca Plonka\nE-Mail: f.plonka@gmx.de \n 
URL:http://www.schreufa.de/event/dorfflohmarkt/
LOCATION:ganz Schreufa\, Sachsenberger Str.\, Frankenberg\, 35066\, Germany
CATEGORIES:1175 Jahrfeier
ATTACH;FMTTYPE=image/jpeg:http://www.schreufa.de/wp-content/uploads/2025/01/Bild-27.02.25-um-13.45.jpeg
END:VEVENT
BEGIN:VEVENT
DTSTART;TZID=Europe/Berlin:20250524T130000
DTEND;TZID=Europe/Berlin:20250524T130000
DTSTAMP:20260423T144855
CREATED:20250114T165339Z
LAST-MODIFIED:20250114T171537Z
UID:1010-1748091600-1748091600@www.schreufa.de
SUMMARY:Ehrenkönig-Schießen
DESCRIPTION:
URL:http://www.schreufa.de/event/ehrenkoenig-schiessen/
LOCATION:Alter Festplatz\, Sachsenberger Str.\, Frankenberg (Eder)\, Hessen\, 35066
END:VEVENT
BEGIN:VEVENT
DTSTART;TZID=Europe/Berlin:20250510T170000
DTEND;TZID=Europe/Berlin:20250510T210000
DTSTAMP:20260423T144855
CREATED:20250108T181750Z
LAST-MODIFIED:20250503T080020Z
UID:636-1746896400-1746910800@www.schreufa.de
SUMMARY:Ständebaumfest
DESCRIPTION:Beim gemütlichen Zusammensein möchten wir\, im 1175 Jubiläumsjahr mit Euch das Ständebaumfest am Dorfmittelpunkt feiern. \nDie Vorbereitungen zum Fest laufen schon seit Anfang 2024 auf Hochtouren.\nViele Aktivitäten am Dorfmittelpunkt wurden schon durchgeführt\, oder stehen noch auf der Agenda: \n\nfrische Blumenzwiebeln durch die Landfrauen\nStändebaumrestauration bei Ralf Stuhlmann\nSäubern und Streichen der Zäune und Bänke\n\nAlso freut Euch auf einen toll hergerichteten Ständebaumplatz und fühlt Euch herzlichst eingeladen.\nAm Festtag wird ein Zelt\, Bierwagen und Essen bereitgestellt. \n  \nAnsprechpartner: Marko Gelbach\nE-Mail: gelbach_mky@yahoo.de
URL:http://www.schreufa.de/event/staendebaumfest/
LOCATION:Dorfmitte\, Sachsenberger Str.\, Frankenberg\, Hessen\, 35066\, Germany
ATTACH;FMTTYPE=image/jpeg:http://www.schreufa.de/wp-content/uploads/2025/01/Staendebaumplatz.jpeg
END:VEVENT
BEGIN:VEVENT
DTSTART;TZID=Europe/Berlin:20250504T100000
DTEND;TZID=Europe/Berlin:20250504T100000
DTSTAMP:20260423T144855
CREATED:20250114T165339Z
LAST-MODIFIED:20250114T171522Z
UID:1008-1746352800-1746352800@www.schreufa.de
SUMMARY:Konfirmation
DESCRIPTION:
URL:http://www.schreufa.de/event/konfirmation/
LOCATION:Kirche\, Kirchbergweg\, Frankenberg\, Hessen\, 35066\, Germany
END:VEVENT
BEGIN:VEVENT
DTSTART;TZID=Europe/Berlin:20250501T100000
DTEND;TZID=Europe/Berlin:20250501T100000
DTSTAMP:20260423T144855
CREATED:20250114T165329Z
LAST-MODIFIED:20250114T171522Z
UID:1007-1746093600-1746093600@www.schreufa.de
SUMMARY:Maiwanderung
DESCRIPTION:
URL:http://www.schreufa.de/event/maiwanderung/
LOCATION:Gasthaus Mühle\, Sachsenberger Str. 32\, Frankenberg\, Hessen\, 35066\, Germany
END:VEVENT
BEGIN:VEVENT
DTSTART;TZID=Europe/Berlin:20250419T180000
DTEND;TZID=Europe/Berlin:20250419T180000
DTSTAMP:20260423T144855
CREATED:20250114T165329Z
LAST-MODIFIED:20250114T171522Z
UID:1005-1745085600-1745085600@www.schreufa.de
SUMMARY:Osterfeuer
DESCRIPTION:
URL:http://www.schreufa.de/event/osterfeuer/
LOCATION:Grillhütte\, Viermündener Str. 25\, Frankenberg\, 35066\, Germany
END:VEVENT
END:VCALENDAR